BEGIN:VCALENDAR
BEGIN:VEVENT
SUMMARY:Dorée\, Otracami\, Wendy Eisenberg [nycnoise]
DTSTART:20251212T010000Z
DTEND:20251212T020000Z
UID:e9c7b156-58c1-4d00-90cb-7b4a8a7e3add
CREATED:20260425T184113Z
DESCRIPTION:7:30pm doors
LOCATION:owl (497 rogers ave\, brooklyn)
END:VEVENT
END:VCALENDAR
