BEGIN:VCALENDAR
BEGIN:VEVENT
SUMMARY:Kait Eldridge (Record Release)\, Shellshag\, Patrick Jennings\, Th
 e Okada Stark Van-Dyck Quartet [nycnoise]
DTSTART:20251101T220000Z
DTEND:20251101T230000Z
UID:80d1a7bd-f423-488e-aede-f313eebcba40
CREATED:20260425T203633Z
DESCRIPTION:
LOCATION:p.i.t. (property is theft) (411 s. 5th st.\, brooklyn)
END:VEVENT
END:VCALENDAR
