BEGIN:VCALENDAR
BEGIN:VEVENT
SUMMARY:Outlier Presents: TBA [nycnoise]
DTSTART:20251110T013000Z
DTEND:20251110T023000Z
UID:7ff76182-0521-4026-97a9-695d2caae59a
CREATED:20260425T203632Z
DESCRIPTION:
LOCATION:p.i.t. (property is theft) (411 s. 5th st.\, brooklyn)
END:VEVENT
END:VCALENDAR
