BEGIN:VCALENDAR
BEGIN:VEVENT
SUMMARY:ABC NO RIO presents: COMA [nycnoise]
DTSTART:20251201T000000Z
DTEND:20251201T010000Z
UID:5a6d0ebd-b801-4b98-a7cb-80da7edbd7ee
CREATED:20260425T204015Z
DESCRIPTION:full lineup asap
LOCATION:p.i.t. (property is theft) (411 s. 5th st.\, brooklyn)
END:VEVENT
END:VCALENDAR
