BEGIN:VCALENDAR
BEGIN:VEVENT
SUMMARY:Messica Arson\, Digital Flowers\, Shadowladder\, Car Blinker Satel
 lite [nycnoise]
DTSTART:20251111T003000Z
DTEND:20251111T013000Z
UID:61cac5ee-29e1-4d5a-b660-10557f58bf9f
CREATED:20260425T203805Z
DESCRIPTION:
LOCATION:trans-pecos (9-15 wyckoff ave\, ridgewood)
END:VEVENT
END:VCALENDAR
