BEGIN:VCALENDAR
BEGIN:VEVENT
SUMMARY:ABC No Rio In Exile: Melissa\, Commitment\, Pure Terror\, Spesia [
 nycnoise]
DTSTART:20251112T000000Z
DTEND:20251112T010000Z
UID:1c256141-0167-4dd6-a6c5-abbcc1260625
CREATED:20260425T203609Z
DESCRIPTION:
LOCATION:trans-pecos (9-15 wyckoff ave\, ridgewood)
END:VEVENT
END:VCALENDAR
