BEGIN:VCALENDAR
BEGIN:VEVENT
SUMMARY:Cropsey Records Presents: Contract\, Cohort B\, Wince\, Eve Claret
  [nycnoise]
DTSTART:20251129T003000Z
DTEND:20251129T013000Z
UID:1eb9cd4d-4f53-4302-80f9-ded900fa6976
CREATED:20260425T203632Z
DESCRIPTION:
LOCATION:trans-pecos (9-15 wyckoff ave\, ridgewood)
END:VEVENT
END:VCALENDAR
