BEGIN:VCALENDAR
BEGIN:VEVENT
SUMMARY:Underworld Forever: God Complex\, Klondyke\, Mizuho Kappa\, Tiresi
 as\, Tristan Allen\, Untitled Queen\, Die Schlampes [nycnoise]
DTSTART:20251215T003000Z
DTEND:20251215T013000Z
UID:c3372e6a-d8e3-42c3-b8b1-a05040eb0ecb
CREATED:20260425T183803Z
DESCRIPTION:
LOCATION:c'mon everybody (325 franklin ave\, brooklyn)
END:VEVENT
END:VCALENDAR
