BEGIN:VCALENDAR
BEGIN:VEVENT
SUMMARY:Heat Lightning Poetic Soundscapes: Cindy Lan + Readings by Kailah 
 Figueroa\, Megan Pinto\, Natasha Rao [nycnoise]
DTSTART:20251109T200000Z
DTEND:20251109T210000Z
UID:aabf7e83-3266-49d2-9329-542461b4961f
CREATED:20260425T203610Z
DESCRIPTION:curated by Zo&euml\; Bodzas &amp\; Michy Woodward
LOCATION:silence please (132 Bowery Floor 2\, New York\, NY 10013)
END:VEVENT
END:VCALENDAR
