BEGIN:VCALENDAR
BEGIN:VEVENT
SUMMARY:Stone Student Concerts: Frigo (Justin Zitt\, Thorbjørn Stefansson
 \, Leo Michael Bird) [nycnoise]
DTSTART:20251112T013000Z
DTEND:20251112T023000Z
UID:fb905eef-f433-45b9-8530-56fbeaf96ad4
CREATED:20260425T203702Z
DESCRIPTION:
LOCATION:stone (55 w. 13th st.\, manhattan)
END:VEVENT
END:VCALENDAR
