BEGIN:VCALENDAR
BEGIN:VEVENT
SUMMARY:Stone Student Concerts: Howie Zheng & Titan Choi [nycnoise]
DTSTART:20251210T013000Z
DTEND:20251210T023000Z
UID:99f29c37-f15a-4c1c-8ab3-2389f0845954
CREATED:20260425T183938Z
DESCRIPTION:
LOCATION:stone (55 w. 13th st.\, manhattan)
END:VEVENT
END:VCALENDAR
