BEGIN:VCALENDAR
BEGIN:VEVENT
SUMMARY:CS4 Night #3/6: Ches Smith Quartet (w/ Mary Halvorson\, Liberty El
 lman\, Nick Dunston) [nycnoise]
DTSTART:20260110T013000Z
DTEND:20260110T023000Z
UID:bf724c42-f6d0-44ba-8e1a-478d5c2f4234
CREATED:20260425T164810Z
DESCRIPTION:
LOCATION:stone (55 w. 13th st.\, manhattan)
END:VEVENT
END:VCALENDAR
