BEGIN:VCALENDAR
BEGIN:VEVENT
SUMMARY:CS4 Night #4/6: Ches Smith Quartet (w/ Mary Halvorson\, Liberty El
 lman\, Nick Dunston) [nycnoise]
DTSTART:20260111T013000Z
DTEND:20260111T023000Z
UID:aa5268a4-1447-4ea6-9402-76df82770fad
CREATED:20260425T164810Z
DESCRIPTION:
LOCATION:stone (55 w. 13th st.\, manhattan)
END:VEVENT
END:VCALENDAR
