BEGIN:VCALENDAR
BEGIN:VEVENT
SUMMARY:CS4 Night #5/6: Ches Smith Quartet (w/ Mary Halvorson\, Liberty El
 lman\, Nick Dunston) [nycnoise]
DTSTART:20260115T013000Z
DTEND:20260115T023000Z
UID:ce7c11df-8750-4a4d-8a93-3bd21af835c3
CREATED:20260425T164810Z
DESCRIPTION:
LOCATION:stone (55 w. 13th st.\, manhattan)
END:VEVENT
END:VCALENDAR
