BEGIN:VCALENDAR
BEGIN:VEVENT
SUMMARY:Smith Residency: TRIO (Darius Jones\, Craig Taborn\, Ches Smith) [
 nycnoise]
DTSTART:20260117T013000Z
DTEND:20260117T023000Z
UID:bd34ef50-b273-4224-959e-174de84e4c72
CREATED:20260425T164810Z
DESCRIPTION:
LOCATION:stone (55 w. 13th st.\, manhattan)
END:VEVENT
END:VCALENDAR
