BEGIN:VCALENDAR
BEGIN:VEVENT
SUMMARY:Smith Residency: TRIO (Shara Lunon\, Craig Taborn\, Ches Smith) [n
 ycnoise]
DTSTART:20260118T013000Z
DTEND:20260118T023000Z
UID:176aaae1-d778-4b17-b446-b62e518ddcd8
CREATED:20260425T165142Z
DESCRIPTION:
LOCATION:stone (55 w. 13th st.\, manhattan)
END:VEVENT
END:VCALENDAR
