BEGIN:VCALENDAR
BEGIN:VEVENT
SUMMARY:Sanchez #1/4: TRIO (Bill Frisell\, Ingrid Laubrock\, Marta Sanchez
 ) [nycnoise]
DTSTART:20260122T013000Z
DTEND:20260122T023000Z
UID:bc64b967-10a2-4de2-8d84-143a8459fba6
CREATED:20260425T164932Z
DESCRIPTION:
LOCATION:stone (55 w. 13th st.\, manhattan)
END:VEVENT
END:VCALENDAR
