BEGIN:VCALENDAR
BEGIN:VEVENT
SUMMARY:Sanchez #2/4: TRIO (Joel Ross\, Marta Sanchez\, Kayvon Gordon) [ny
 cnoise]
DTSTART:20260123T013000Z
DTEND:20260123T023000Z
UID:b20181a6-e03b-4c7a-afe4-e837bdeb75f3
CREATED:20260425T164932Z
DESCRIPTION:
LOCATION:stone (55 w. 13th st.\, manhattan)
END:VEVENT
END:VCALENDAR
