BEGIN:VCALENDAR
BEGIN:VEVENT
SUMMARY:Vandever #4/4: TRIO (Kalia Vandever\, Charles Overton\, Mikel Patr
 ick Avery) [nycnoise]
DTSTART:20260201T013000Z
DTEND:20260201T023000Z
UID:2e31eb26-22c1-4472-95ed-964a2b0650f7
CREATED:20260425T164809Z
DESCRIPTION:
LOCATION:stone (55 w. 13th st.\, manhattan)
END:VEVENT
END:VCALENDAR
