BEGIN:VCALENDAR
BEGIN:VEVENT
SUMMARY:Gates Night #3/4: QUARTET (Sally Gates\, Carla Kihlstedt\, Ches Sm
 ith\, Christian McBride) [nycnoise]
DTSTART:20260207T013000Z
DTEND:20260207T023000Z
UID:1a77ebe0-a06e-4307-9a2f-d36bb94e8d55
CREATED:20260425T144852Z
DESCRIPTION:
LOCATION:stone (55 w. 13th st.\, manhattan)
END:VEVENT
END:VCALENDAR
