BEGIN:VCALENDAR
BEGIN:VEVENT
SUMMARY:Gates Night #4/4: Titan to Tachyons (Sally Gates\, Matt Hollenberg
 \, Kenny Grohowski) [nycnoise]
DTSTART:20260208T013000Z
DTEND:20260208T023000Z
UID:aeeca2b5-461c-481d-bb5f-49d32e1a6863
CREATED:20260425T144900Z
DESCRIPTION:
LOCATION:stone (55 w. 13th st.\, manhattan)
END:VEVENT
END:VCALENDAR
