BEGIN:VCALENDAR
BEGIN:VEVENT
SUMMARY:Fujiwara Night #1/4: Duo (Darius Jones & Tomas Fujiwara) [nycnoise
 ]
DTSTART:20260212T013000Z
DTEND:20260212T023000Z
UID:794a148d-f11d-497e-bb94-5a91af2a9f07
CREATED:20260425T145021Z
DESCRIPTION:
LOCATION:stone (55 w. 13th st.\, manhattan)
END:VEVENT
END:VCALENDAR
