BEGIN:VCALENDAR
BEGIN:VEVENT
SUMMARY:Fujiwara Night #3/4: Duo (Taylor Ho Bynum & Tomas Fujiwara) [nycno
 ise]
DTSTART:20260214T013000Z
DTEND:20260214T023000Z
UID:d81e52a5-c679-401d-ae44-be39614cd387
CREATED:20260425T144940Z
DESCRIPTION:
LOCATION:stone (55 w. 13th st.\, manhattan)
END:VEVENT
END:VCALENDAR
