BEGIN:VCALENDAR
BEGIN:VEVENT
SUMMARY:Fujiwara Night #4/4: The Out Louds (Ben Goldberg\, Mary Halvorson\
 , Tomas Fujiwara) [nycnoise]
DTSTART:20260215T013000Z
DTEND:20260215T023000Z
UID:3394bdb9-d8a6-470f-839f-86b4afb78196
CREATED:20260425T145151Z
DESCRIPTION:
LOCATION:stone (55 w. 13th st.\, manhattan)
END:VEVENT
END:VCALENDAR
