BEGIN:VCALENDAR
BEGIN:VEVENT
SUMMARY:Courvoisier Night #1/4: Sylvie Courvoisier TRIO (w/ Drew Gress\, K
 enny Wollesen) [nycnoise]
DTSTART:20260219T013000Z
DTEND:20260219T023000Z
UID:a5e0094e-6bd8-4815-b503-bc6b37988b03
CREATED:20260425T144942Z
DESCRIPTION:
LOCATION:stone (55 w. 13th st.\, manhattan)
END:VEVENT
END:VCALENDAR
