BEGIN:VCALENDAR
BEGIN:VEVENT
SUMMARY:Courvoisier Night #2/4: Sylvie Courvoisier QUARTET (w/ Miles Okaza
 ki\, Thomas Morgan\, Dan Weiss) [nycnoise]
DTSTART:20260220T013000Z
DTEND:20260220T023000Z
UID:733bd302-e131-4fde-ba51-8593cb44d06a
CREATED:20260425T144942Z
DESCRIPTION:
LOCATION:stone (55 w. 13th st.\, manhattan)
END:VEVENT
END:VCALENDAR
