BEGIN:VCALENDAR
BEGIN:VEVENT
SUMMARY:Courvoisier Night #3/4: DUO (Sylvie Courvoisier & Ellery Eskelin) 
 [nycnoise]
DTSTART:20260221T013000Z
DTEND:20260221T023000Z
UID:69bc22cf-da2e-4be0-82a5-1be983ee0742
CREATED:20260425T144859Z
DESCRIPTION:
LOCATION:stone (55 w. 13th st.\, manhattan)
END:VEVENT
END:VCALENDAR
