BEGIN:VCALENDAR
BEGIN:VEVENT
SUMMARY:Irabagon Night #2/4: Duo (Jon Irabagon & Peter Evans) [nycnoise]
DTSTART:20260227T013000Z
DTEND:20260227T023000Z
UID:077cc546-1974-4d06-9e68-966938a72820
CREATED:20260425T144900Z
DESCRIPTION:
LOCATION:stone (55 w. 13th st.\, manhattan)
END:VEVENT
END:VCALENDAR
