BEGIN:VCALENDAR
BEGIN:VEVENT
SUMMARY:Ortiz Night #1/4: Reimagining Trópiques (Aruan Ortiz\, isabel cre
 spo pardo\, Aliya Ultan ft. special guest Brent Hayes Edward) [nycnoise]
DTSTART:20260305T013000Z
DTEND:20260305T023000Z
UID:b1c3c842-f5f0-4094-9ae1-318e37225d19
CREATED:20260425T130728Z
DESCRIPTION:
LOCATION:stone (55 w. 13th st.\, manhattan)
END:VEVENT
END:VCALENDAR
