BEGIN:VCALENDAR
BEGIN:VEVENT
SUMMARY:Ortiz Night #4/4: Pastor's Paradox (Aruan Ortiz\, Don Byron\, Phee
 roan AkLaff) [nycnoise]
DTSTART:20260308T013000Z
DTEND:20260308T023000Z
UID:18b4c218-89b7-4544-b01b-7345a2444776
CREATED:20260425T130837Z
DESCRIPTION:
LOCATION:stone (55 w. 13th st.\, manhattan)
END:VEVENT
END:VCALENDAR
