BEGIN:VCALENDAR
BEGIN:VEVENT
SUMMARY:Chase Night #1/4: LACE ACTION CARDS (Zeena Parkins & Brian Chase) 
 [nycnoise]
DTSTART:20260312T003000Z
DTEND:20260312T013000Z
UID:32ebd8c4-2924-429a-839d-b729945cc7d7
CREATED:20260425T130549Z
DESCRIPTION:
LOCATION:stone (55 w. 13th st.\, manhattan)
END:VEVENT
END:VCALENDAR
