BEGIN:VCALENDAR
BEGIN:VEVENT
SUMMARY:Chase Night #2/4: DRUMS & DRONES (Brian Chase) [nycnoise]
DTSTART:20260313T003000Z
DTEND:20260313T013000Z
UID:b096a190-cb4c-46d6-9a79-ae45033c3dd5
CREATED:20260425T130528Z
DESCRIPTION:
LOCATION:stone (55 w. 13th st.\, manhattan)
END:VEVENT
END:VCALENDAR
