BEGIN:VCALENDAR
BEGIN:VEVENT
SUMMARY:Wong 50th Bday Night #1/4: DUO (DoYeon Kim & Theresa Wong) [nycnoi
 se]
DTSTART:20260326T003000Z
DTEND:20260326T013000Z
UID:4b671350-9d1e-4e3b-8415-5daaf23feb5d
CREATED:20260425T130529Z
DESCRIPTION:
LOCATION:stone (55 w. 13th st.\, manhattan)
END:VEVENT
END:VCALENDAR
