BEGIN:VCALENDAR
BEGIN:VEVENT
SUMMARY:Wong 50th Bday Night #2/4: TRIO (Jane Rigler\, Nava Dunkelman\, Th
 eresa Wong) [nycnoise]
DTSTART:20260327T003000Z
DTEND:20260327T013000Z
UID:3be91839-6bcc-4c35-9ef4-0ec60c1f9552
CREATED:20260425T130835Z
DESCRIPTION:
LOCATION:stone (55 w. 13th st.\, manhattan)
END:VEVENT
END:VCALENDAR
