BEGIN:VCALENDAR
BEGIN:VEVENT
SUMMARY:Reid Night #3/4: TRIO (Tomeka Reid\, Ikue Mori\, Nava Dunkelman) [
 nycnoise]
DTSTART:20260404T003000Z
DTEND:20260404T013000Z
UID:17eb1372-4a01-4a8f-bb2b-a5545ca2dc04
CREATED:20260425T110740Z
DESCRIPTION:
LOCATION:stone (55 w. 13th st.\, manhattan)
END:VEVENT
END:VCALENDAR
