BEGIN:VCALENDAR
BEGIN:VEVENT
SUMMARY:Reid Night #4/4: TRIO (Tomeka Reid\, Yvonne Rogers\, Lesley Mok) [
 nycnoise]
DTSTART:20260405T003000Z
DTEND:20260405T013000Z
UID:b50aca49-20e7-4c85-bedc-319bc62bd444
CREATED:20260425T110816Z
DESCRIPTION:
LOCATION:stone (55 w. 13th st.\, manhattan)
END:VEVENT
END:VCALENDAR
