BEGIN:VCALENDAR
BEGIN:VEVENT
SUMMARY:Martin Night #1/4: Intangible Actions (Ikue Mori & Billy Martin) [
 nycnoise]
DTSTART:20260416T003000Z
DTEND:20260416T013000Z
UID:e21f62ad-4a69-4e9e-9862-1d1b1931ef51
CREATED:20260425T110827Z
DESCRIPTION:
LOCATION:stone (55 w. 13th st.\, manhattan)
END:VEVENT
END:VCALENDAR
