BEGIN:VCALENDAR
BEGIN:VEVENT
SUMMARY:Martin Night #2/4: John Medeski & Billy Martin [nycnoise]
DTSTART:20260417T003000Z
DTEND:20260417T013000Z
UID:fc5de16e-ffbd-4cbc-bba1-eecb2e8f6abd
CREATED:20260425T110530Z
DESCRIPTION:
LOCATION:stone (55 w. 13th st.\, manhattan)
END:VEVENT
END:VCALENDAR
