BEGIN:VCALENDAR
BEGIN:VEVENT
SUMMARY:Martin Night #3/4: Billy Martin leads Bamboo Orchestra [nycnoise]
DTSTART:20260418T003000Z
DTEND:20260418T013000Z
UID:1f601136-cf58-47fe-956a-00f43e58c6f3
CREATED:20260425T110816Z
DESCRIPTION:
LOCATION:stone (55 w. 13th st.\, manhattan)
END:VEVENT
END:VCALENDAR
