BEGIN:VCALENDAR
BEGIN:VEVENT
SUMMARY:Marsella Night #2/4: April Showers (Brian Marsella\, Wendy Eisenbe
 rg\, Henry Fraser) [nycnoise]
DTSTART:20260424T003000Z
DTEND:20260424T013000Z
UID:0378cc7e-b26a-45cd-9e54-004883f4d50a
CREATED:20260425T110833Z
DESCRIPTION:
LOCATION:stone (55 w. 13th st.\, manhattan)
END:VEVENT
END:VCALENDAR
