BEGIN:VCALENDAR
BEGIN:VEVENT
SUMMARY:Connie Crothers Tribute Night #3/4: TBA [nycnoise]
DTSTART:20260502T003000Z
DTEND:20260502T013000Z
UID:780df4fb-ba73-4123-bd1d-80826fd79f3d
CREATED:20260425T092048Z
DESCRIPTION:lineup asap
LOCATION:stone (55 w. 13th st.\, manhattan)
END:VEVENT
END:VCALENDAR
