BEGIN:VCALENDAR
BEGIN:VEVENT
SUMMARY:Connie Crothers Tribute Night #4/4: TBA [nycnoise]
DTSTART:20260503T003000Z
DTEND:20260503T013000Z
UID:184b9ec9-4a8c-449a-b840-bef754e1967a
CREATED:20260425T091423Z
DESCRIPTION:lineup asap
LOCATION:stone (55 w. 13th st.\, manhattan)
END:VEVENT
END:VCALENDAR
