BEGIN:VCALENDAR
BEGIN:VEVENT
SUMMARY:King Night #2/4: TBA [nycnoise]
DTSTART:20260508T003000Z
DTEND:20260508T013000Z
UID:c02ef895-28d1-494a-ad6b-078036a834db
CREATED:20260425T091629Z
DESCRIPTION:lineup asap
LOCATION:stone (55 w. 13th st.\, manhattan)
END:VEVENT
END:VCALENDAR
