BEGIN:VCALENDAR
BEGIN:VEVENT
SUMMARY:King Night #3/4: TBA [nycnoise]
DTSTART:20260509T003000Z
DTEND:20260509T013000Z
UID:90028f59-8ddb-47da-98c6-91b23df5b49a
CREATED:20260425T091923Z
DESCRIPTION:lineup asap
LOCATION:stone (55 w. 13th st.\, manhattan)
END:VEVENT
END:VCALENDAR
