BEGIN:VCALENDAR
BEGIN:VEVENT
SUMMARY:Buchbinder Night #1/3: TBA [nycnoise]
DTSTART:20260521T003000Z
DTEND:20260521T013000Z
UID:c4bad58a-1bb7-4bdb-87af-2a3b4017ddec
CREATED:20260425T124201Z
DESCRIPTION:lineup asap
LOCATION:stone (55 w. 13th st.\, manhattan)
END:VEVENT
END:VCALENDAR
