BEGIN:VCALENDAR
BEGIN:VEVENT
SUMMARY:Serpa Night #1/4: TBA [nycnoise]
DTSTART:20260528T003000Z
DTEND:20260528T013000Z
UID:77e1178e-980b-41fc-beef-a42379c4778a
CREATED:20260425T124201Z
DESCRIPTION:lineup asap
LOCATION:stone (55 w. 13th st.\, manhattan)
END:VEVENT
END:VCALENDAR
