BEGIN:VCALENDAR
BEGIN:VEVENT
SUMMARY:Serpa Night #3/4: TBA [nycnoise]
DTSTART:20260530T003000Z
DTEND:20260530T013000Z
UID:d86c23f7-b449-4a57-a846-320c3066de1b
CREATED:20260425T110530Z
DESCRIPTION:lineup asap
LOCATION:stone (55 w. 13th st.\, manhattan)
END:VEVENT
END:VCALENDAR
