BEGIN:VCALENDAR
BEGIN:VEVENT
SUMMARY:Serpa Night #4/4: TBA [nycnoise]
DTSTART:20260531T003000Z
DTEND:20260531T013000Z
UID:59d5e7fc-151f-471a-b0d1-f7d6ceb4c743
CREATED:20260425T110833Z
DESCRIPTION:lineup asap
LOCATION:stone (55 w. 13th st.\, manhattan)
END:VEVENT
END:VCALENDAR
