BEGIN:VCALENDAR
BEGIN:VEVENT
SUMMARY:Mark Dresser & Robert Dick [nycnoise]
DTSTART:20251122T000000Z
DTEND:20251122T010000Z
UID:24fdf486-6619-4875-8980-17aee792bc7e
CREATED:20260425T204012Z
DESCRIPTION:
LOCATION:fridman gallery (169 bowery\, manhattan)
END:VEVENT
END:VCALENDAR
