BEGIN:VCALENDAR
BEGIN:VEVENT
SUMMARY:Ramapo Creative Music Tech MFA: Responses to David Tudor’s Rainf
 orest + [nycnoise]
DTSTART:20251109T230000Z
DTEND:20251110T000000Z
UID:6eff974f-ac6a-4e13-9526-bc042abb31bf
CREATED:20260425T203806Z
DESCRIPTION:no performer info\; 3pm-5pm Phil Edelstein workshop
LOCATION:fridman gallery (169 bowery\, manhattan)
END:VEVENT
END:VCALENDAR
